BEGIN:VCALENDAR
VERSION:2.0
PRODID:-//ChamberMaster//Event Calendar 2.0//EN
METHOD:PUBLISH
X-PUBLISHED-TTL:P3D
REFRESH-INTERVAL:P3D
CALSCALE:GREGORIAN
BEGIN:VEVENT
DTSTART:20141112T193000Z
DTEND:20141112T200000Z
X-MICROSOFT-CDO-ALLDAYEVENT:FALSE
SUMMARY:RC: CrossFit Archway
DESCRIPTION:Come and check out the newest Crossfit Center in Kearney!
X-ALT-DESC;FMTTYPE=text/html:Come and check out the newest Crossfit Center in Kearney!
LOCATION:3210 Antelope Avenue Suite G
UID:e.1404.5403
SEQUENCE:3
DTSTAMP:20260423T034128Z
URL:https://members.kearneycoc.org/events/details/rc-crossfit-archway-11-12-2014-5403
END:VEVENT

END:VCALENDAR
