BEGIN:VCALENDAR
VERSION:2.0
PRODID:-//ChamberMaster//Event Calendar 2.0//EN
METHOD:PUBLISH
X-PUBLISHED-TTL:P3D
REFRESH-INTERVAL:P3D
CALSCALE:GREGORIAN
BEGIN:VEVENT
DTSTART:20220914T213000Z
DTEND:20220914T223000Z
X-MICROSOFT-CDO-ALLDAYEVENT:FALSE
SUMMARY:RC - Crowne Plaza Kearney
DESCRIPTION:Join us to celebrate the Grand Opening of Crowne Plaza Kearney featuring Younes Conference Center North\, Starbucks and Fyre Modern Grill!
X-ALT-DESC;FMTTYPE=text/html:<br />\n<span style="font-size:14px\;"><strong>Join us to celebrate the Grand Opening of Crowne Plaza Kearney featuring Younes Conference Center North\, Starbucks and Fyre Modern Grill!</strong></span>
LOCATION:Crowne Plaza Kearney 707 W Talmadge Street Kearney\, NE 68845
UID:e.1404.20067
SEQUENCE:3
DTSTAMP:20260421T090052Z
URL:https://members.kearneycoc.org/events/details/rc-crowne-plaza-kearney-20067
END:VEVENT

END:VCALENDAR
