BEGIN:VCALENDAR
VERSION:2.0
PRODID:-//ChamberMaster//Event Calendar 2.0//EN
METHOD:PUBLISH
X-PUBLISHED-TTL:P3D
REFRESH-INTERVAL:P3D
CALSCALE:GREGORIAN
BEGIN:VEVENT
DTSTART:20220127T220000Z
DTEND:20220127T230000Z
X-MICROSOFT-CDO-ALLDAYEVENT:FALSE
SUMMARY:RC - Diva's at Kearney Floral
DESCRIPTION:Join us to celebrate new ownership! Diva's at Kearney Floral invites you for a celabratory Ribbon Cutting followed by an Open House.
X-ALT-DESC;FMTTYPE=text/html:Join us to celebrate new ownership! Diva&#39\;s at Kearney Floral invites you for a celabratory Ribbon Cutting followed by an Open House.
LOCATION:210 W 21st Street Kearney
UID:e.1404.19471
SEQUENCE:3
DTSTAMP:20260423T195436Z
URL:https://members.kearneycoc.org/events/details/rc-diva-s-at-kearney-floral-19471
END:VEVENT

END:VCALENDAR
