BEGIN:VCALENDAR
VERSION:2.0
PRODID:-//ChamberMaster//Event Calendar 2.0//EN
METHOD:PUBLISH
X-PUBLISHED-TTL:P3D
REFRESH-INTERVAL:P3D
CALSCALE:GREGORIAN
BEGIN:VEVENT
DTSTART:20191101T150000Z
DTEND:20191101T160000Z
X-MICROSOFT-CDO-ALLDAYEVENT:FALSE
SUMMARY:RC - Edith Joi Boutique
DESCRIPTION:Join us for a Ribbon Cutting Ceremony to celebrate the new location of Edith Joi Boutique!
X-ALT-DESC;FMTTYPE=text/html:Join us for a Ribbon Cutting Ceremony to celebrate the new location of Edith Joi Boutique!
LOCATION:2122 Central Ave
UID:e.1404.18198
SEQUENCE:3
DTSTAMP:20260425T150103Z
URL:https://members.kearneycoc.org/events/details/rc-edith-joi-boutique-18198
END:VEVENT

END:VCALENDAR
