BEGIN:VCALENDAR
VERSION:2.0
PRODID:-//ChamberMaster//Event Calendar 2.0//EN
METHOD:PUBLISH
X-PUBLISHED-TTL:P3D
REFRESH-INTERVAL:P3D
CALSCALE:GREGORIAN
BEGIN:VEVENT
DTSTART:20220512T210000Z
DTEND:20220512T220000Z
X-MICROSOFT-CDO-ALLDAYEVENT:FALSE
SUMMARY:RC - Element 30\, University Village at UNK
DESCRIPTION:Join us for a Ribbon Cutting at Element 30 Kearney! Located within University Village at the University of Nebraska Kearney\, view the newly constructed commons area and fitness center. Take apartment tours and learn about other new projects coming soon!\n\n\n\n*North side of the West building\, enter through the double doors to the Commons area
X-ALT-DESC;FMTTYPE=text/html:Join us for a Ribbon Cutting at Element 30 Kearney! Located within University Village at the University of Nebraska Kearney\, view the newly constructed commons area and fitness center. Take apartment tours and learn about other new projects coming soon!<br />\n<br />\n<em>*North side of the West building\, enter through the double doors to the Commons area</em>
LOCATION:Element 30 2114 University Drive Kearney\, NE 68845 *North side of the West building\, enter through the double doors to the Commons area
UID:e.1404.19659
SEQUENCE:3
DTSTAMP:20260423T113620Z
URL:https://members.kearneycoc.org/events/details/rc-element-30-university-village-at-unk-19659
END:VEVENT

END:VCALENDAR
