BEGIN:VCALENDAR
VERSION:2.0
PRODID:-//ChamberMaster//Event Calendar 2.0//EN
METHOD:PUBLISH
X-PUBLISHED-TTL:P3D
REFRESH-INTERVAL:P3D
CALSCALE:GREGORIAN
BEGIN:VEVENT
DTSTART:20210719T213000Z
DTEND:20210719T223000Z
X-MICROSOFT-CDO-ALLDAYEVENT:FALSE
SUMMARY:RC - Elite Chiropractic & Tissue Rehabilitation
DESCRIPTION:Join us for a Ribbon Cutting to celebrate the new office location of Elite Chiropractic & Tissue Reabilitation!
X-ALT-DESC;FMTTYPE=text/html:Join us for a Ribbon Cutting to celebrate the new office location of Elite Chiropractic &amp\; Tissue Reabilitation!&nbsp\;
LOCATION:4715 2nd Ave. Kearney
UID:e.1404.19339
SEQUENCE:3
DTSTAMP:20260424T035825Z
URL:https://members.kearneycoc.org/events/details/rc-elite-chiropractic-tissue-rehabilitation-19339
END:VEVENT

END:VCALENDAR
