BEGIN:VCALENDAR
VERSION:2.0
PRODID:-//ChamberMaster//Event Calendar 2.0//EN
METHOD:PUBLISH
X-PUBLISHED-TTL:P3D
REFRESH-INTERVAL:P3D
CALSCALE:GREGORIAN
BEGIN:VEVENT
DTSTART:20140605T150000Z
DTEND:20140605T160000Z
X-MICROSOFT-CDO-ALLDAYEVENT:FALSE
SUMMARY:RC: Erbert and Gerbert's
DESCRIPTION:Grand Opening for new sandwich place!
X-ALT-DESC;FMTTYPE=text/html:Grand Opening for new sandwich place!
LOCATION:2715 2nd Ave Suite A
UID:e.1404.4856
SEQUENCE:3
DTSTAMP:20260423T113620Z
URL:https://members.kearneycoc.org/events/details/rc-erbert-and-gerbert-s-06-05-2014-4856
END:VEVENT

END:VCALENDAR
