BEGIN:VCALENDAR
VERSION:2.0
PRODID:-//ChamberMaster//Event Calendar 2.0//EN
METHOD:PUBLISH
X-PUBLISHED-TTL:P3D
REFRESH-INTERVAL:P3D
CALSCALE:GREGORIAN
BEGIN:VEVENT
DTSTART:20220201T223000Z
DTEND:20220201T230000Z
X-MICROSOFT-CDO-ALLDAYEVENT:FALSE
SUMMARY:RC - Erika Thiele Photography Grand Opening
DESCRIPTION:Join us to celebrate the Grand Opening and new studio for Erika Thiele Photography!\n\n*Masks are strongly encouraged for attendance*
X-ALT-DESC;FMTTYPE=text/html:Join us to celebrate the Grand Opening and new studio for Erika Thiele Photography!<br />\n<em>*Masks are strongly encouraged for attendance*</em>
LOCATION:41 Lakeside Drive Kearney\, NE https://goo.gl/maps/dxoLANthTaZACRCj9
UID:e.1404.19625
SEQUENCE:3
DTSTAMP:20260423T181356Z
URL:https://members.kearneycoc.org/events/details/rc-erika-thiele-photography-grand-opening-19625
END:VEVENT

END:VCALENDAR
