BEGIN:VCALENDAR
VERSION:2.0
PRODID:-//ChamberMaster//Event Calendar 2.0//EN
METHOD:PUBLISH
X-PUBLISHED-TTL:P3D
REFRESH-INTERVAL:P3D
CALSCALE:GREGORIAN
BEGIN:VEVENT
DTSTART:20210422T210000Z
DTEND:20210422T213000Z
X-MICROSOFT-CDO-ALLDAYEVENT:FALSE
SUMMARY:RC - Excel Appraisal Solutions
DESCRIPTION:Join us for a Ribbon Cutting ceremony for Excel Appraisal Solutions! Open house from 4:00-6:00 p.m.
X-ALT-DESC;FMTTYPE=text/html:Join us for a Ribbon Cutting ceremony for <a href="https://chambermaster.kearneycoc.org/list/Member/excel-appraisal-solutions-17738">Excel Appraisal Solutions</a>! Open house from 4:00-6:00 p.m.&nbsp\;
LOCATION:3811 Central Ave\, Ste G Kearney NE
UID:e.1404.19233
SEQUENCE:3
DTSTAMP:20260424T101504Z
URL:https://members.kearneycoc.org/events/details/rc-excel-appraisal-solutions-19233
END:VEVENT

END:VCALENDAR
