BEGIN:VCALENDAR
VERSION:2.0
PRODID:-//ChamberMaster//Event Calendar 2.0//EN
METHOD:PUBLISH
X-PUBLISHED-TTL:P3D
REFRESH-INTERVAL:P3D
CALSCALE:GREGORIAN
BEGIN:VEVENT
DTSTART:20190912T210000Z
DTEND:20190912T220000Z
X-MICROSOFT-CDO-ALLDAYEVENT:FALSE
SUMMARY:RC - Fireplace Stone and Patio
DESCRIPTION:Join us for a Ribbon Cutting ceremony and Open House for Fireplace Stone and Patio!
X-ALT-DESC;FMTTYPE=text/html:Join us for a Ribbon Cutting ceremony and Open House for Fireplace Stone and Patio!
LOCATION:1540 W 56th St.
UID:e.1404.17845
SEQUENCE:3
DTSTAMP:20260425T180812Z
URL:https://members.kearneycoc.org/events/details/rc-fireplace-stone-and-patio-17845
END:VEVENT

END:VCALENDAR
