BEGIN:VCALENDAR
VERSION:2.0
PRODID:-//ChamberMaster//Event Calendar 2.0//EN
METHOD:PUBLISH
X-PUBLISHED-TTL:P3D
REFRESH-INTERVAL:P3D
CALSCALE:GREGORIAN
BEGIN:VEVENT
DTSTART:20140926T150000Z
DTEND:20140926T153000Z
X-MICROSOFT-CDO-ALLDAYEVENT:FALSE
SUMMARY:RC: Florang Chiropractic & Wellness
DESCRIPTION:Join is welcoming the new Florang Chiropractic and Wellness Center to Kearney!
X-ALT-DESC;FMTTYPE=text/html:Join is welcoming the new Florang Chiropractic and Wellness Center to Kearney!
LOCATION:2214 2nd Avenue Kearney\, NE
UID:e.1404.5336
SEQUENCE:3
DTSTAMP:20260423T083742Z
URL:https://members.kearneycoc.org/events/details/rc-florang-chiropractic-wellness-09-26-2014-5336
END:VEVENT

END:VCALENDAR
