BEGIN:VCALENDAR
VERSION:2.0
PRODID:-//ChamberMaster//Event Calendar 2.0//EN
METHOD:PUBLISH
X-PUBLISHED-TTL:P3D
REFRESH-INTERVAL:P3D
CALSCALE:GREGORIAN
BEGIN:VEVENT
DTSTART:20131122T180000Z
DTEND:20131122T190000Z
X-MICROSOFT-CDO-ALLDAYEVENT:FALSE
SUMMARY:RC - Gary Michael's Clothiers
DESCRIPTION:20% off the entire store November 22-23rd.\n\n\n\nThe below items will all be used for a Awesome Drawing!!\n\n*Cutter & Buck shirt and sweater\n\n*Jack Victor Suit\n\n*3 dress shirts and ties from Enro & Tommy Bahama apparel\n\n\n\nLight refreshments will be served.
X-ALT-DESC;FMTTYPE=text/html:<span style="color:#500050\;"><span style="font-family:arial\,sans-serif\;">20% off the entire store November 22-23rd.<br />\n<br />\nThe below items will all be used for a Awesome Drawing!!<br />\n*Cutter &amp\; Buck shirt and sweater<br />\n*Jack Victor&nbsp\;Suit<br />\n*3 dress shirts and ties from Enro &amp\; Tommy Bahama apparel<br />\n<br />\nLight refreshments will be served.</span></span>
LOCATION:2118 Central Ave Kearney\, NE
UID:e.1404.3362
SEQUENCE:3
DTSTAMP:20260423T231131Z
URL:https://members.kearneycoc.org/events/details/rc-gary-michael-s-clothiers-11-22-2013-3362
END:VEVENT

END:VCALENDAR
