BEGIN:VCALENDAR
VERSION:2.0
PRODID:-//ChamberMaster//Event Calendar 2.0//EN
METHOD:PUBLISH
X-PUBLISHED-TTL:P3D
REFRESH-INTERVAL:P3D
CALSCALE:GREGORIAN
BEGIN:VEVENT
DTSTART:20220927T190000Z
DTEND:20220927T213000Z
X-MICROSOFT-CDO-ALLDAYEVENT:FALSE
SUMMARY:RC - GXO-Bayer Kearney Distribution Center
DESCRIPTION:Join us for a ribbon cutting ceremony to celebrate the Grand Opening of GXO-Bayer Kearney Distribution Center!
X-ALT-DESC;FMTTYPE=text/html:<br />\n<span style="font-size:14px\;">Join us for a ribbon cutting ceremony to celebrate the Grand Opening of GXO-Bayer Kearney Distribution Center!</span>
LOCATION:GXO - Bayer Kearney Distribution Center 2615 East 11th Street Kearney\, NE 68845
UID:e.1404.20068
SEQUENCE:3
DTSTAMP:20260421T084353Z
URL:https://members.kearneycoc.org/events/details/rc-gxo-bayer-kearney-distribution-center-20068
END:VEVENT

END:VCALENDAR
