BEGIN:VCALENDAR
VERSION:2.0
PRODID:-//ChamberMaster//Event Calendar 2.0//EN
METHOD:PUBLISH
X-PUBLISHED-TTL:P3D
REFRESH-INTERVAL:P3D
CALSCALE:GREGORIAN
BEGIN:VEVENT
DTSTART:20200722T210000Z
DTEND:20200722T220000Z
X-MICROSOFT-CDO-ALLDAYEVENT:FALSE
SUMMARY:RC - Hello Beautiful Bridal & Formal Wear
DESCRIPTION:Join us for a Ribbon Cutting ceremony for Hello Beautiful Bridal and Formal Wear!
X-ALT-DESC;FMTTYPE=text/html:Join us for a Ribbon Cutting ceremony for <a href="https://hellobeautifulbridal.com/">Hello Beautiful Bridal and Formal Wear</a>!
LOCATION:2309 Central Ave Kearney NE
UID:e.1404.18413
SEQUENCE:3
DTSTAMP:20260425T033059Z
URL:https://members.kearneycoc.org/events/details/rc-hello-beautiful-bridal-formal-wear-18413
END:VEVENT

END:VCALENDAR
