BEGIN:VCALENDAR
VERSION:2.0
PRODID:-//ChamberMaster//Event Calendar 2.0//EN
METHOD:PUBLISH
X-PUBLISHED-TTL:P3D
REFRESH-INTERVAL:P3D
CALSCALE:GREGORIAN
BEGIN:VEVENT
DTSTART:20150616T210000Z
DTEND:20150616T213000Z
X-MICROSOFT-CDO-ALLDAYEVENT:FALSE
SUMMARY:RC: HelpCare Clinic
DESCRIPTION:On Tuesday\, June 16\, HelpCare Clinic will have a Ribbon Cutting and Open House to celebrate the opening of our free clinic and our volunteers. Join us at 4 p.m. for the ribbon cutting followed by refreshments and tours of our facility until 6 p.m.\n\n \n\n \n\nHelpCare Clinic is a safety net clinic for the uninsured\, low income in Buffalo and Kearney Counties. The care for our patients is given by volunteer medical staff.
X-ALT-DESC;FMTTYPE=text/html:<span style="color:#59554D\;"><span style="font-family:arial\,sans-serif\;"><span style="font-size:11.0pt\;">On Tuesday\, June 16\, HelpCare Clinic will have a Ribbon Cutting and Open House to celebrate the opening of our free clinic and our volunteers.&nbsp\;Join us at 4 p.m. for the ribbon cutting followed by refreshments and tours of our facility until 6 p.m.</span></span></span><br />\n&nbsp\;<br />\n&nbsp\;<br />\n<span style="color:#59554D\;"><span style="font-family:arial\,sans-serif\;"><span style="font-size:11.0pt\;">HelpCare Clinic is a safety net clinic for the uninsured\, low income in Buffalo and Kearney Counties. The care for our patients is given by volunteer medical staff.</span></span></span>
LOCATION:3015 Avenue A
UID:e.1404.6224
SEQUENCE:3
DTSTAMP:20260422T165101Z
URL:https://members.kearneycoc.org/events/details/rc-helpcare-clinic-06-16-2015-6224
END:VEVENT

END:VCALENDAR
