BEGIN:VCALENDAR
VERSION:2.0
PRODID:-//ChamberMaster//Event Calendar 2.0//EN
METHOD:PUBLISH
X-PUBLISHED-TTL:P3D
REFRESH-INTERVAL:P3D
CALSCALE:GREGORIAN
BEGIN:VEVENT
DTSTART:20160328T210000Z
DTEND:20160328T213000Z
X-MICROSOFT-CDO-ALLDAYEVENT:FALSE
SUMMARY:RC: Holistic Healing
DESCRIPTION:Join us in welcoming Kady Jacobs of Holistic Healing to Downtown on the Bricks. She'll be hosting a ribbon cutting ceremony with treats from Eileen's Cookies and Hy-Vee. Let's show Kady our support!
X-ALT-DESC;FMTTYPE=text/html:Join us in&nbsp\;welcoming Kady Jacobs of Holistic Healing to Downtown on the Bricks. She&#39\;ll be hosting a ribbon cutting ceremony with treats from Eileen&#39\;s Cookies and Hy-Vee. Let&#39\;s show Kady our support!
LOCATION:Inside the Kaufman Center 2202 Central Ave.\, Suite 6
UID:e.1404.7524
SEQUENCE:3
DTSTAMP:20260422T011302Z
URL:https://members.kearneycoc.org/events/details/rc-holistic-healing-03-28-2016-7524
END:VEVENT

END:VCALENDAR
