BEGIN:VCALENDAR
VERSION:2.0
PRODID:-//ChamberMaster//Event Calendar 2.0//EN
METHOD:PUBLISH
X-PUBLISHED-TTL:P3D
REFRESH-INTERVAL:P3D
CALSCALE:GREGORIAN
BEGIN:VEVENT
DTSTART:20201005T200000Z
DTEND:20201005T210000Z
X-MICROSOFT-CDO-ALLDAYEVENT:FALSE
SUMMARY:RC - Holistic Healing Spa & Bohemian Boutique
DESCRIPTION:Join us for a Ribbon Cutting ceremony for Holistic Healing Spa & Bohemian Boutique! Grand Opening to follow!
X-ALT-DESC;FMTTYPE=text/html:Join us for a Ribbon Cutting ceremony for<a href="https://www.holistickearney.com/"> Holistic Healing Spa &amp\; Bohemian Boutique</a>! Grand Opening to follow!
LOCATION:2119 Central Ave.
UID:e.1404.18721
SEQUENCE:3
DTSTAMP:20260424T223707Z
URL:https://members.kearneycoc.org/events/details/rc-holistic-healing-spa-bohemian-boutique-18721
END:VEVENT

END:VCALENDAR
