BEGIN:VCALENDAR
VERSION:2.0
PRODID:-//ChamberMaster//Event Calendar 2.0//EN
METHOD:PUBLISH
X-PUBLISHED-TTL:P3D
REFRESH-INTERVAL:P3D
CALSCALE:GREGORIAN
BEGIN:VEVENT
DTSTART:20200807T210000Z
DTEND:20200807T220000Z
X-MICROSOFT-CDO-ALLDAYEVENT:FALSE
SUMMARY:RC - Home Within
DESCRIPTION:Join us for a Ribbon Cutting ceremony for Home Within!
X-ALT-DESC;FMTTYPE=text/html:Join us for a Ribbon Cutting ceremony for <a href="https://www.facebook.com/homewithin2/">Home Within</a>!
LOCATION:2210 Central Ave.
UID:e.1404.18415
SEQUENCE:3
DTSTAMP:20260425T001848Z
URL:https://members.kearneycoc.org/events/details/rc-home-within-18415
END:VEVENT

END:VCALENDAR
