BEGIN:VCALENDAR
VERSION:2.0
PRODID:-//ChamberMaster//Event Calendar 2.0//EN
METHOD:PUBLISH
X-PUBLISHED-TTL:P3D
REFRESH-INTERVAL:P3D
CALSCALE:GREGORIAN
BEGIN:VEVENT
DTSTART:20190812T170000Z
DTEND:20190812T180000Z
X-MICROSOFT-CDO-ALLDAYEVENT:FALSE
SUMMARY:RC - Hot Meals USA Dedication Event
DESCRIPTION:Please join Kearney's Rotary Clubs\, other local sponsors\, Chamber businesses and distinguished guests in celebrating the dedication efforts to feed disaster-stricken communities in times of need.
X-ALT-DESC;FMTTYPE=text/html:Please join Kearney&#39\;s Rotary Clubs\, other local sponsors\, Chamber businesses and distinguished guests in celebrating the dedication efforts to feed disaster-stricken communities in times of need.&nbsp\;
LOCATION:St. James Church 3801 Ave A Kearney NE
UID:e.1404.16600
SEQUENCE:3
DTSTAMP:20260425T195439Z
URL:https://members.kearneycoc.org/events/details/rc-hot-meals-usa-dedication-event-16600
END:VEVENT

END:VCALENDAR
