BEGIN:VCALENDAR
VERSION:2.0
PRODID:-//ChamberMaster//Event Calendar 2.0//EN
METHOD:PUBLISH
X-PUBLISHED-TTL:P3D
REFRESH-INTERVAL:P3D
CALSCALE:GREGORIAN
BEGIN:VEVENT
DTSTART:20190410T200000Z
DTEND:20190410T203000Z
X-MICROSOFT-CDO-ALLDAYEVENT:FALSE
SUMMARY:RC - Indigo Bungalow
DESCRIPTION:Please join us for a Ribbon Cutting ceremony for Indigo Bungalow!
X-ALT-DESC;FMTTYPE=text/html:Please join us for a Ribbon Cutting ceremony for Indigo Bungalow!
LOCATION:Indigo Bungalow 2504 Hwy 30 East
UID:e.1404.15134
SEQUENCE:3
DTSTAMP:20260426T020422Z
URL:https://members.kearneycoc.org/events/details/rc-indigo-bungalow-15134
END:VEVENT

END:VCALENDAR
