BEGIN:VCALENDAR
VERSION:2.0
PRODID:-//ChamberMaster//Event Calendar 2.0//EN
METHOD:PUBLISH
X-PUBLISHED-TTL:P3D
REFRESH-INTERVAL:P3D
CALSCALE:GREGORIAN
BEGIN:VEVENT
DTSTART:20161117T220000Z
DTEND:20161117T230000Z
X-MICROSOFT-CDO-ALLDAYEVENT:FALSE
SUMMARY:RC: Indulge Salon
DESCRIPTION:Join us in a ribbon cutting celebration the 1 year anniversary of new ownership. Open house to follow with snacks and beverages.
X-ALT-DESC;FMTTYPE=text/html:Join us in a ribbon cutting celebration the 1&nbsp\;year anniversary of new ownership. Open house to follow with snacks and beverages.
LOCATION:2222 2nd Ave Ste 700
UID:e.1404.9066
SEQUENCE:3
DTSTAMP:20260421T103931Z
URL:https://members.kearneycoc.org/events/details/rc-indulge-salon-9066
END:VEVENT

END:VCALENDAR
