BEGIN:VCALENDAR
VERSION:2.0
PRODID:-//ChamberMaster//Event Calendar 2.0//EN
METHOD:PUBLISH
X-PUBLISHED-TTL:P3D
REFRESH-INTERVAL:P3D
CALSCALE:GREGORIAN
BEGIN:VEVENT
DTSTART:20191018T150000Z
DTEND:20191018T160000Z
X-MICROSOFT-CDO-ALLDAYEVENT:FALSE
SUMMARY:RC - Innovative Rx Compounding Pharmacy
DESCRIPTION:Join us for a Ribbon Cutting ceremony for Innovative Rx Compounding Pharmacy!
X-ALT-DESC;FMTTYPE=text/html:Join us for a Ribbon Cutting ceremony for Innovative Rx Compounding Pharmacy!
LOCATION:416 W 48th St. Ste 20
UID:e.1404.17926
SEQUENCE:3
DTSTAMP:20260425T163825Z
URL:https://members.kearneycoc.org/events/details/rc-innovative-rx-compounding-pharmacy-17926
END:VEVENT

END:VCALENDAR
