BEGIN:VCALENDAR
VERSION:2.0
PRODID:-//ChamberMaster//Event Calendar 2.0//EN
METHOD:PUBLISH
X-PUBLISHED-TTL:P3D
REFRESH-INTERVAL:P3D
CALSCALE:GREGORIAN
BEGIN:VEVENT
DTSTART:20191030T210000Z
DTEND:20191030T220000Z
X-MICROSOFT-CDO-ALLDAYEVENT:FALSE
SUMMARY:RC - Joy's Table Pasta and Steaks
DESCRIPTION:Please join us for a Ribbon Cutting ceremony for Joy's Table Pasta and Steaks!
X-ALT-DESC;FMTTYPE=text/html:Please join us for a Ribbon Cutting ceremony for Joy&#39\;s Table Pasta and Steaks!
LOCATION:110 S 2nd Ave.
UID:e.1404.18239
SEQUENCE:3
DTSTAMP:20260425T163836Z
URL:https://members.kearneycoc.org/events/details/rc-joy-s-table-pasta-and-steaks-18239
END:VEVENT

END:VCALENDAR
