BEGIN:VCALENDAR
VERSION:2.0
PRODID:-//ChamberMaster//Event Calendar 2.0//EN
METHOD:PUBLISH
X-PUBLISHED-TTL:P3D
REFRESH-INTERVAL:P3D
CALSCALE:GREGORIAN
BEGIN:VEVENT
DTSTART:20160415T140000Z
DTEND:20160415T143000Z
X-MICROSOFT-CDO-ALLDAYEVENT:FALSE
SUMMARY:RC: Just For Ladies
DESCRIPTION:Opening of their new pool!
X-ALT-DESC;FMTTYPE=text/html:Opening of their new pool!
LOCATION:Just For Ladies 1408 E 39th St
UID:e.1404.7516
SEQUENCE:3
DTSTAMP:20260421T215756Z
URL:https://members.kearneycoc.org/events/details/rc-just-for-ladies-04-15-2016-7516
END:VEVENT

END:VCALENDAR
