BEGIN:VCALENDAR
VERSION:2.0
PRODID:-//ChamberMaster//Event Calendar 2.0//EN
METHOD:PUBLISH
X-PUBLISHED-TTL:P3D
REFRESH-INTERVAL:P3D
CALSCALE:GREGORIAN
BEGIN:VEVENT
DTSTART:20191104T220000Z
DTEND:20191104T230000Z
X-MICROSOFT-CDO-ALLDAYEVENT:FALSE
SUMMARY:RC - Just for Ladies
DESCRIPTION:Join us for a Ribbon Cutting ceremony to help celebrate with the new owners of Just for Ladies!
X-ALT-DESC;FMTTYPE=text/html:Join us for a Ribbon Cutting ceremony to help celebrate with the new owners of Just for Ladies!
LOCATION:1408 E 39th St
UID:e.1404.18202
SEQUENCE:3
DTSTAMP:20260425T163841Z
URL:https://members.kearneycoc.org/events/details/rc-just-for-ladies-18202
END:VEVENT

END:VCALENDAR
