BEGIN:VCALENDAR
VERSION:2.0
PRODID:-//ChamberMaster//Event Calendar 2.0//EN
METHOD:PUBLISH
X-PUBLISHED-TTL:P3D
REFRESH-INTERVAL:P3D
CALSCALE:GREGORIAN
BEGIN:VEVENT
DTSTART:20220106T223000Z
DTEND:20220106T233000Z
X-MICROSOFT-CDO-ALLDAYEVENT:FALSE
SUMMARY:RC - Just for Ladies new location
DESCRIPTION:It's time to celebrate the new location of Just For Ladies! Join us for a Ribbon Cutting ceremony!\n\nRefreshments provided and tours will be available.
X-ALT-DESC;FMTTYPE=text/html:It&#39\;s time to celebrate the new location of Just For Ladies! Join us for a Ribbon Cutting ceremony!<br />\nRefreshments provided and tours will be available.&nbsp\;
LOCATION:1540 W 56th Street Suite B Kearney\, NE
UID:e.1404.19470
SEQUENCE:3
DTSTAMP:20260423T195444Z
URL:https://members.kearneycoc.org/events/details/rc-just-for-ladies-new-location-19470
END:VEVENT

END:VCALENDAR
