BEGIN:VCALENDAR
VERSION:2.0
PRODID:-//ChamberMaster//Event Calendar 2.0//EN
METHOD:PUBLISH
X-PUBLISHED-TTL:P3D
REFRESH-INTERVAL:P3D
CALSCALE:GREGORIAN
BEGIN:VEVENT
DTSTART:20190603T160000Z
DTEND:20190603T163000Z
X-MICROSOFT-CDO-ALLDAYEVENT:FALSE
SUMMARY:RC - KAAPA Coop
DESCRIPTION:Join us for a Ribbon Cutting ceremony for KAAPA Coop's new location and join us to hear more about their new Platte River Valley Market!
X-ALT-DESC;FMTTYPE=text/html:Join us for a Ribbon Cutting ceremony for KAAPA Coop&#39\;s new location and join us to hear more about their new Platte River Valley Market!
LOCATION:906 E 25th St.
UID:e.1404.15954
SEQUENCE:3
DTSTAMP:20260425T230813Z
URL:https://members.kearneycoc.org/events/details/rc-kaapa-coop-15954
END:VEVENT

END:VCALENDAR
