BEGIN:VCALENDAR
VERSION:2.0
PRODID:-//ChamberMaster//Event Calendar 2.0//EN
METHOD:PUBLISH
X-PUBLISHED-TTL:P3D
REFRESH-INTERVAL:P3D
CALSCALE:GREGORIAN
BEGIN:VEVENT
DTSTART:20141118T220000Z
DTEND:20141118T223000Z
X-MICROSOFT-CDO-ALLDAYEVENT:FALSE
SUMMARY:RC: Kara Grauerholz State Farm Insurance
DESCRIPTION:Ribbon Cutting Ceremony for State Farm Insurance-Kara Grauerholz's new office!
X-ALT-DESC;FMTTYPE=text/html:Ribbon Cutting Ceremony for State Farm Insurance-Kara Grauerholz&#39\;s new office!
LOCATION:5609 1st Avenue\, Suite C-2
UID:e.1404.5362
SEQUENCE:3
DTSTAMP:20260423T034741Z
URL:https://members.kearneycoc.org/events/details/rc-kara-grauerholz-state-farm-insurance-11-18-2014-5362
END:VEVENT

END:VCALENDAR
