BEGIN:VCALENDAR
VERSION:2.0
PRODID:-//ChamberMaster//Event Calendar 2.0//EN
METHOD:PUBLISH
X-PUBLISHED-TTL:P3D
REFRESH-INTERVAL:P3D
CALSCALE:GREGORIAN
BEGIN:VEVENT
DTSTART:20190507T210000Z
DTEND:20190507T213000Z
X-MICROSOFT-CDO-ALLDAYEVENT:FALSE
SUMMARY:RC - Kearney Area Animal Shelter
DESCRIPTION:Join us to help the Kearney Area Animal Shelter celebrate their renovations!
X-ALT-DESC;FMTTYPE=text/html:Join us to help the Kearney Area Animal Shelter celebrate their renovations!
LOCATION:Kearney Area Animal Shelter 3205 W Hwy 30
UID:e.1404.15442
SEQUENCE:3
DTSTAMP:20260426T005232Z
URL:https://members.kearneycoc.org/events/details/rc-kearney-area-animal-shelter-15442
END:VEVENT

END:VCALENDAR
