BEGIN:VCALENDAR
VERSION:2.0
PRODID:-//ChamberMaster//Event Calendar 2.0//EN
METHOD:PUBLISH
X-PUBLISHED-TTL:P3D
REFRESH-INTERVAL:P3D
CALSCALE:GREGORIAN
BEGIN:VEVENT
DTSTART:20141024T210000Z
DTEND:20141024T210000Z
X-MICROSOFT-CDO-ALLDAYEVENT:FALSE
SUMMARY:RC: Kearney Glass/Glass Doctor
DESCRIPTION:Kearney Glass has purchased the Glass Doctor franchise. Come out for a Ribbon Cutting Ceremony and learn more about the change and meet staff!
X-ALT-DESC;FMTTYPE=text/html:Kearney Glass has purchased the Glass Doctor franchise. Come out for a Ribbon Cutting Ceremony and learn more about the change and meet staff!
LOCATION:16 East 23rd
UID:e.1404.5375
SEQUENCE:3
DTSTAMP:20260423T070155Z
URL:https://members.kearneycoc.org/events/details/rc-kearney-glass-glass-doctor-10-24-2014-5375
END:VEVENT

END:VCALENDAR
