BEGIN:VCALENDAR
VERSION:2.0
PRODID:-//ChamberMaster//Event Calendar 2.0//EN
METHOD:PUBLISH
X-PUBLISHED-TTL:P3D
REFRESH-INTERVAL:P3D
CALSCALE:GREGORIAN
BEGIN:VEVENT
DTSTART:20160815T170000Z
DTEND:20160815T173000Z
X-MICROSOFT-CDO-ALLDAYEVENT:FALSE
SUMMARY:RC: Kearney High School
DESCRIPTION:Be there from the beginning!\n\nRibbon Cutting 12:00 \n\nKHS Concert Hall & Theater\n\nTours after the event until 2:00pm\n\nEvening Tours 5:00-7:00pm
X-ALT-DESC;FMTTYPE=text/html:<span style="color: rgb(75\, 79\, 86)\; font-family: helvetica\, arial\, sans-serif\; font-size: 14px\; line-height: 18.76px\; background-color: rgb(255\, 255\, 255)\;">Be there from the beginning!</span><br style="color: rgb(75\, 79\, 86)\; font-family: helvetica\, arial\, sans-serif\; font-size: 14px\; line-height: 18.76px\; background-color: rgb(255\, 255\, 255)\;" />\n<span style="color: rgb(75\, 79\, 86)\; font-family: helvetica\, arial\, sans-serif\; font-size: 14px\; line-height: 18.76px\; background-color: rgb(255\, 255\, 255)\;">Ribbon Cutting 12:00&nbsp\;</span><br style="color: rgb(75\, 79\, 86)\; font-family: helvetica\, arial\, sans-serif\; font-size: 14px\; line-height: 18.76px\; background-color: rgb(255\, 255\, 255)\;" />\n<span style="color: rgb(75\, 79\, 86)\; font-family: helvetica\, arial\, sans-serif\; font-size: 14px\; line-height: 18.76px\; background-color: rgb(255\, 255\, 255)\;">KHS Concert Hall &amp\; Theater</span><br style="color: rgb(75\, 79\, 86)\; font-family: helvetica\, arial\, sans-serif\; font-size: 14px\; line-height: 18.76px\; background-color: rgb(255\, 255\, 255)\;" />\n<span style="color: rgb(75\, 79\, 86)\; font-family: helvetica\, arial\, sans-serif\; font-size: 14px\; line-height: 18.76px\; background-color: rgb(255\, 255\, 255)\;">Tours after the event until 2:00pm</span><br style="color: rgb(75\, 79\, 86)\; font-family: helvetica\, arial\, sans-serif\; font-size: 14px\; line-height: 18.76px\; background-color: rgb(255\, 255\, 255)\;" />\n<span style="color: rgb(75\, 79\, 86)\; font-family: helvetica\, arial\, sans-serif\; font-size: 14px\; line-height: 18.76px\; background-color: rgb(255\, 255\, 255)\;">Evening Tours 5:00-7:00pm</span>
LOCATION:2702 W. 11th St.
UID:e.1404.8756
SEQUENCE:3
DTSTAMP:20260421T153215Z
URL:https://members.kearneycoc.org/events/details/rc-kearney-high-school-08-15-2016-8756
END:VEVENT

END:VCALENDAR
