BEGIN:VCALENDAR
VERSION:2.0
PRODID:-//ChamberMaster//Event Calendar 2.0//EN
METHOD:PUBLISH
X-PUBLISHED-TTL:P3D
REFRESH-INTERVAL:P3D
CALSCALE:GREGORIAN
BEGIN:VEVENT
DTSTART:20151021T153000Z
DTEND:20151021T163000Z
X-MICROSOFT-CDO-ALLDAYEVENT:FALSE
SUMMARY:RC: Kearney Jubilee Center
DESCRIPTION:Join us in a ribbon cutting ceremony for the Kearney Jubilee Center. The thrift store is now open for business! Come out and do some shopping\, learn more about the services they provide to the community and ways you can donate or help out!
X-ALT-DESC;FMTTYPE=text/html:Join us in a ribbon cutting ceremony for the Kearney Jubilee Center. The thrift store is now open for business! Come out and do some shopping\, learn more about the services they provide to the community and ways you can donate or help out!
LOCATION:2523 Avenue A
UID:e.1404.6998
SEQUENCE:3
DTSTAMP:20260422T100904Z
URL:https://members.kearneycoc.org/events/details/rc-kearney-jubilee-center-10-21-2015-6998
END:VEVENT

END:VCALENDAR
