BEGIN:VCALENDAR
VERSION:2.0
PRODID:-//ChamberMaster//Event Calendar 2.0//EN
METHOD:PUBLISH
X-PUBLISHED-TTL:P3D
REFRESH-INTERVAL:P3D
CALSCALE:GREGORIAN
BEGIN:VEVENT
DTSTART:20210311T220000Z
DTEND:20210311T230000Z
X-MICROSOFT-CDO-ALLDAYEVENT:FALSE
SUMMARY:RC - Kearney Jubilee Center
DESCRIPTION:Join us for a Ribbon Cutting ceremony for the new location of Kearney Jubilee Center!! Open house and tours to follow!
X-ALT-DESC;FMTTYPE=text/html:Join us for a Ribbon Cutting ceremony for the new location of <a href="https://kearneyjubilee.org/">Kearney Jubilee Center</a>!! Open house and tours to follow!
LOCATION:1920 Central Ave.
UID:e.1404.18727
SEQUENCE:3
DTSTAMP:20260424T122424Z
URL:https://members.kearneycoc.org/events/details/rc-kearney-jubilee-center-18727
END:VEVENT

END:VCALENDAR
