BEGIN:VCALENDAR
VERSION:2.0
PRODID:-//ChamberMaster//Event Calendar 2.0//EN
METHOD:PUBLISH
X-PUBLISHED-TTL:P3D
REFRESH-INTERVAL:P3D
CALSCALE:GREGORIAN
BEGIN:VEVENT
DTSTART:20220525T213000Z
DTEND:20220525T220000Z
X-MICROSOFT-CDO-ALLDAYEVENT:FALSE
SUMMARY:RC - Kearney Physical Therapy Children's Rehab Center
DESCRIPTION:Join us for a Ribbon Cutting ceremony to celebrate the opening of Children's Rehab Center at Kearney Physical Therapy!
X-ALT-DESC;FMTTYPE=text/html:Join us for a Ribbon Cutting ceremony to celebrate the opening of Children&#39\;s Rehab Center at Kearney Physical Therapy!&nbsp\;
LOCATION:Kearney Physical Therapy 2707 2nd Ave Kearney\, NE 68847
UID:e.1404.19671
SEQUENCE:3
DTSTAMP:20260423T114122Z
URL:https://members.kearneycoc.org/events/details/rc-kearney-physical-therapy-children-s-rehab-center-19671
END:VEVENT

END:VCALENDAR
