BEGIN:VCALENDAR
VERSION:2.0
PRODID:-//ChamberMaster//Event Calendar 2.0//EN
METHOD:PUBLISH
X-PUBLISHED-TTL:P3D
REFRESH-INTERVAL:P3D
CALSCALE:GREGORIAN
BEGIN:VEVENT
DTSTART:20140213T230000Z
DTEND:20140214T010000Z
X-MICROSOFT-CDO-ALLDAYEVENT:FALSE
SUMMARY:RC: Kearney Regional Medical Center
DESCRIPTION:Join us for Kearney Regional Medical Center's Ribbon Cutting and Open House on February 13th. Governor Dave Heineman will be speaking.\n\n\n\nAppetizers and  drinks will be served.
X-ALT-DESC;FMTTYPE=text/html:Join us for Kearney Regional Medical Center&#39\;s Ribbon Cutting and Open House on February 13th. Governor Dave Heineman will be speaking.<br />\n<br />\nAppetizers and &nbsp\;drinks will be served.&nbsp\;
LOCATION:Kearney Regional Medical Center 804 22nd Ave
UID:e.1404.4488
SEQUENCE:3
DTSTAMP:20260423T195730Z
URL:https://members.kearneycoc.org/events/details/rc-kearney-regional-medical-center-02-13-2014-4488
END:VEVENT

END:VCALENDAR
