BEGIN:VCALENDAR
VERSION:2.0
PRODID:-//ChamberMaster//Event Calendar 2.0//EN
METHOD:PUBLISH
X-PUBLISHED-TTL:P3D
REFRESH-INTERVAL:P3D
CALSCALE:GREGORIAN
BEGIN:VEVENT
DTSTART:20211021T140000Z
DTEND:20211021T150000Z
X-MICROSOFT-CDO-ALLDAYEVENT:FALSE
SUMMARY:RC - Kearney Works/NE Department of Labor
DESCRIPTION:Join us for a Ribbon Cutting ceremony to welcome Kearney Works and the NE Department of Labor in their partnership and new office space!
X-ALT-DESC;FMTTYPE=text/html:Join us for a Ribbon Cutting ceremony to welcome Kearney Works and the NE Department of Labor in their partnership and new office space!
LOCATION:315 West 60th Street\, Suite 225 Kearney\, NE 68845
UID:e.1404.19429
SEQUENCE:3
DTSTAMP:20260423T232844Z
URL:https://members.kearneycoc.org/events/details/rc-kearney-works-ne-department-of-labor-19429
END:VEVENT

END:VCALENDAR
