BEGIN:VCALENDAR
VERSION:2.0
PRODID:-//ChamberMaster//Event Calendar 2.0//EN
METHOD:PUBLISH
X-PUBLISHED-TTL:P3D
REFRESH-INTERVAL:P3D
CALSCALE:GREGORIAN
BEGIN:VEVENT
DTSTART:20200731T180000Z
DTEND:20200731T183000Z
X-MICROSOFT-CDO-ALLDAYEVENT:FALSE
SUMMARY:RC - Kidds Korner
DESCRIPTION:Join us for a Ribbon Cutting ceremony for Kidds Korner!
X-ALT-DESC;FMTTYPE=text/html:Join us for a Ribbon Cutting ceremony for <a href="https://www.facebook.com/kiddskorner68845/">Kidds Korner</a>!&nbsp\;
LOCATION:2424 W 24th St. Ste 1
UID:e.1404.18656
SEQUENCE:3
DTSTAMP:20260425T015642Z
URL:https://members.kearneycoc.org/events/details/rc-kidds-korner-18656
END:VEVENT

END:VCALENDAR
