BEGIN:VCALENDAR
VERSION:2.0
PRODID:-//ChamberMaster//Event Calendar 2.0//EN
METHOD:PUBLISH
X-PUBLISHED-TTL:P3D
REFRESH-INTERVAL:P3D
CALSCALE:GREGORIAN
BEGIN:VEVENT
DTSTART:20140828T150000Z
DTEND:20140828T153000Z
X-MICROSOFT-CDO-ALLDAYEVENT:FALSE
SUMMARY:RC: Kidwell
DESCRIPTION:Join us in a Ribbon Cutting Ceremony for Kidwell's new office!
X-ALT-DESC;FMTTYPE=text/html:Join us in a Ribbon Cutting Ceremony for Kidwell&#39\;s new office!
LOCATION:5609 1st Ave.\, Suite C-1
UID:e.1404.5307
SEQUENCE:3
DTSTAMP:20260423T090823Z
URL:https://members.kearneycoc.org/events/details/rc-kidwell-08-28-2014-5307
END:VEVENT

END:VCALENDAR
