BEGIN:VCALENDAR
VERSION:2.0
PRODID:-//ChamberMaster//Event Calendar 2.0//EN
METHOD:PUBLISH
X-PUBLISHED-TTL:P3D
REFRESH-INTERVAL:P3D
CALSCALE:GREGORIAN
BEGIN:VEVENT
DTSTART:20220222T220000Z
DTEND:20220223T010000Z
X-MICROSOFT-CDO-ALLDAYEVENT:FALSE
SUMMARY:RC - kwELITE Real Estate Kearney & Aksarben Mortgage
DESCRIPTION:Join us for an Open House and Ribbon Cutting to celebrate kwELITE Real Estate Kearney and welcome Sally Bernard with Aksarben Mortgage!\n\n\n\n4-7 Open House\n\n5:00 Ribbon Cutting ceremony\n\n\n\nTuesday\, February 22nd
X-ALT-DESC;FMTTYPE=text/html:Join us for an Open House and Ribbon Cutting to celebrate kwELITE Real Estate Kearney and welcome Sally Bernard with Aksarben Mortgage!<br />\n<br />\n4-7 Open House<br />\n5:00 Ribbon Cutting ceremony<br />\n<br />\nTuesday\, February 22nd<br />\n&nbsp\;
LOCATION:5609 1st Ave.\, Suite A\, Upper level Kearney\, NE 68845
UID:e.1404.19629
SEQUENCE:3
DTSTAMP:20260423T181436Z
URL:https://members.kearneycoc.org/events/details/rc-kwelite-real-estate-kearney-aksarben-mortgage-19629
END:VEVENT

END:VCALENDAR
