BEGIN:VCALENDAR
VERSION:2.0
PRODID:-//ChamberMaster//Event Calendar 2.0//EN
METHOD:PUBLISH
X-PUBLISHED-TTL:P3D
REFRESH-INTERVAL:P3D
CALSCALE:GREGORIAN
BEGIN:VEVENT
DTSTART:20150605T170000Z
DTEND:20150605T180000Z
X-MICROSOFT-CDO-ALLDAYEVENT:FALSE
SUMMARY:RC: Longo Orthodontics
DESCRIPTION:Join us in "Summer Fun Days" at Longo Orthodontics. We'll kick this celebration off with a ribbon cutting ceremony at Noon followed by some fun refreshments!
X-ALT-DESC;FMTTYPE=text/html:Join us in &quot\;Summer Fun Days&quot\; at Longo Orthodontics. We&#39\;ll kick this&nbsp\;celebration off with a ribbon cutting ceremony at Noon followed by some fun refreshments!
LOCATION:Longo Orthodontics 111 West 31st Street
UID:e.1404.6223
SEQUENCE:3
DTSTAMP:20260422T152150Z
URL:https://members.kearneycoc.org/events/details/rc-longo-orthodontics-06-05-2015-6223
END:VEVENT

END:VCALENDAR
