BEGIN:VCALENDAR
VERSION:2.0
PRODID:-//ChamberMaster//Event Calendar 2.0//EN
METHOD:PUBLISH
X-PUBLISHED-TTL:P3D
REFRESH-INTERVAL:P3D
CALSCALE:GREGORIAN
BEGIN:VEVENT
DTSTART:20140610T190000Z
DTEND:20140610T200000Z
X-MICROSOFT-CDO-ALLDAYEVENT:FALSE
SUMMARY:RC: Luv Bugs Day Care
DESCRIPTION:Ribbon Cutting for new day care!
X-ALT-DESC;FMTTYPE=text/html:Ribbon Cutting for new day care!
LOCATION:516 W 39th Street
UID:e.1404.4850
SEQUENCE:3
DTSTAMP:20260423T113657Z
URL:https://members.kearneycoc.org/events/details/rc-luv-bugs-day-care-06-10-2014-4850
END:VEVENT

END:VCALENDAR
