BEGIN:VCALENDAR
VERSION:2.0
PRODID:-//ChamberMaster//Event Calendar 2.0//EN
METHOD:PUBLISH
X-PUBLISHED-TTL:P3D
REFRESH-INTERVAL:P3D
CALSCALE:GREGORIAN
BEGIN:VEVENT
DTSTART:20160422T210000Z
DTEND:20160422T213000Z
X-MICROSOFT-CDO-ALLDAYEVENT:FALSE
SUMMARY:RC: Midwest Elite Contracting
DESCRIPTION:Join us for a ribbon cutting ceremony followed by an open house for their new shop!
X-ALT-DESC;FMTTYPE=text/html:Join us for a ribbon cutting ceremony followed by an open house for their new shop!
LOCATION:1203 W 16th St.\, #4
UID:e.1404.8551
SEQUENCE:3
DTSTAMP:20260421T214719Z
URL:https://members.kearneycoc.org/events/details/rc-midwest-elite-contracting-04-22-2016-8551
END:VEVENT

END:VCALENDAR
