BEGIN:VCALENDAR
VERSION:2.0
PRODID:-//ChamberMaster//Event Calendar 2.0//EN
METHOD:PUBLISH
X-PUBLISHED-TTL:P3D
REFRESH-INTERVAL:P3D
CALSCALE:GREGORIAN
BEGIN:VEVENT
DTSTART:20150902T210000Z
DTEND:20150903T000000Z
X-MICROSOFT-CDO-ALLDAYEVENT:FALSE
SUMMARY:RC: Midwest Management Solutions
DESCRIPTION:Join us for a ribbon cutting/open house to celebrate Midwest Management Solutions adding services to the general public. Midwest Management Solutions takes care of and provides pilot service for company owned planes. They fly executives to meetings\, product demonstrations and conferences. They have been in business since 2009 and have just added certification to provide service to the general public. Companies and/or individuals can now book a private flight with Midwest Management Solutions. This service is perfect for companies needing time saving transportation for their executives or family vacations to destinations throughout the United States. We'll kick off this celebration with a ribbon cutting at 4pm followed by an open house until 7pm with hamburgers\, brats and refreshments! The airplanes will also be available to check out!
X-ALT-DESC;FMTTYPE=text/html:Join us for a ribbon cutting/open house to celebrate Midwest Management Solutions adding services to the general public. Midwest Management&nbsp\;Solutions takes care of and provides pilot service for company owned planes. They fly executives to meetings\, product demonstrations and conferences. They have been in business since 2009 and have just added certification to provide service to the general public. Companies and/or individuals can now book a private flight with Midwest Management Solutions. This service is perfect for companies needing time saving transportation for their executives or family vacations to destinations throughout the United States. We&#39\;ll kick off this celebration with a ribbon cutting at 4pm followed by an open house until 7pm with hamburgers\, brats and refreshments! The airplanes will also be available to check out!
LOCATION:4845 Airport Road.
UID:e.1404.6699
SEQUENCE:3
DTSTAMP:20260422T101313Z
URL:https://members.kearneycoc.org/events/details/rc-midwest-management-solutions-09-02-2015-6699
END:VEVENT

END:VCALENDAR
