BEGIN:VCALENDAR
VERSION:2.0
PRODID:-//ChamberMaster//Event Calendar 2.0//EN
METHOD:PUBLISH
X-PUBLISHED-TTL:P3D
REFRESH-INTERVAL:P3D
CALSCALE:GREGORIAN
BEGIN:VEVENT
DTSTART:20160819T183000Z
DTEND:20160819T200000Z
X-MICROSOFT-CDO-ALLDAYEVENT:FALSE
SUMMARY:RC: Nebraska Commission for the Blind & Visually Impaired
DESCRIPTION:Join us in a ribbon cutting for their new office! Ribbon cutting at 1:30. Open house 1-3pm.
X-ALT-DESC;FMTTYPE=text/html:Join us in a ribbon cutting for their new office! Ribbon cutting at 1:30. Open house 1-3pm.
LOCATION:620 E 25th Ste 1
UID:e.1404.8771
SEQUENCE:3
DTSTAMP:20260421T153351Z
URL:https://members.kearneycoc.org/events/details/rc-nebraska-commission-for-the-blind-visually-impaired-08-19-2016-8771
END:VEVENT

END:VCALENDAR
