BEGIN:VCALENDAR
VERSION:2.0
PRODID:-//ChamberMaster//Event Calendar 2.0//EN
METHOD:PUBLISH
X-PUBLISHED-TTL:P3D
REFRESH-INTERVAL:P3D
CALSCALE:GREGORIAN
BEGIN:VEVENT
DTSTART:20200824T210000Z
DTEND:20200824T220000Z
X-MICROSOFT-CDO-ALLDAYEVENT:FALSE
SUMMARY:RC - Nebraska Title Company
DESCRIPTION:Join us for a Ribbon Cutting ceremony and Open House for Nebraska Title Company!
X-ALT-DESC;FMTTYPE=text/html:Join us for a Ribbon Cutting ceremony and Open House for <a href="http://www.nebtitleco.com">Nebraska Title Company</a>!
LOCATION:208 W. 29th St. Ste. B
UID:e.1404.18309
SEQUENCE:3
DTSTAMP:20260425T015902Z
URL:https://members.kearneycoc.org/events/details/rc-nebraska-title-company-18309
END:VEVENT

END:VCALENDAR
