BEGIN:VCALENDAR
VERSION:2.0
PRODID:-//ChamberMaster//Event Calendar 2.0//EN
METHOD:PUBLISH
X-PUBLISHED-TTL:P3D
REFRESH-INTERVAL:P3D
CALSCALE:GREGORIAN
BEGIN:VEVENT
DTSTART:20210115T180000Z
DTEND:20210115T190000Z
X-MICROSOFT-CDO-ALLDAYEVENT:FALSE
SUMMARY:RC - Nest:Space - Premier CoWorking
DESCRIPTION:Join us for a Ribbon Cutting ceremony for Nest:Space - Premier CoWorking!\n\n\n\n*Due to the City of Kearney mask mandate\, masks are required and social distancing is recommended.
X-ALT-DESC;FMTTYPE=text/html:Join us for a Ribbon Cutting ceremony for <a href="https://nestspace.co/">Nest:Space - Premier CoWorking</a>!<br />\n<br />\n*Due to the City of Kearney mask mandate\, masks are required and social distancing is recommended.&nbsp\;
LOCATION:2224 Central Ave Kearney
UID:e.1404.18921
SEQUENCE:3
DTSTAMP:20260424T155648Z
URL:https://members.kearneycoc.org/events/details/rc-nest-space-premier-coworking-18921
END:VEVENT

END:VCALENDAR
