BEGIN:VCALENDAR
VERSION:2.0
PRODID:-//ChamberMaster//Event Calendar 2.0//EN
METHOD:PUBLISH
X-PUBLISHED-TTL:P3D
REFRESH-INTERVAL:P3D
CALSCALE:GREGORIAN
BEGIN:VEVENT
DTSTART:20150313T160000Z
DTEND:20150313T180000Z
X-MICROSOFT-CDO-ALLDAYEVENT:FALSE
SUMMARY:RC-NMC-The Cat Rental Store
DESCRIPTION:A Ribbon Cutting Ceremony will kick this Grand Opening off at 11am. Stay for the Grand Opening festivities from 11am-1pm.
X-ALT-DESC;FMTTYPE=text/html:<font color="#1f497d">A Ribbon Cutting Ceremony will kick this Grand Opening off at 11am. Stay for the Grand Opening festivities from 11am-1pm.&nbsp\; </font>
LOCATION:2608 E 32nd Street Place\, Suite C
UID:e.1404.6147
SEQUENCE:3
DTSTAMP:20260422T200414Z
URL:https://members.kearneycoc.org/events/details/rc-nmc-the-cat-rental-store-03-13-2015-6147
END:VEVENT

END:VCALENDAR
