BEGIN:VCALENDAR
VERSION:2.0
PRODID:-//ChamberMaster//Event Calendar 2.0//EN
METHOD:PUBLISH
X-PUBLISHED-TTL:P3D
REFRESH-INTERVAL:P3D
CALSCALE:GREGORIAN
BEGIN:VEVENT
DTSTART:20190425T163000Z
DTEND:20190425T170000Z
X-MICROSOFT-CDO-ALLDAYEVENT:FALSE
SUMMARY:RC - Northwestern Energy
DESCRIPTION:Join us for a Ribbon Cutting ceremony for Northwestern Energy's newly remodeled office! An Open House will follow.
X-ALT-DESC;FMTTYPE=text/html:Join us for a Ribbon Cutting ceremony for Northwestern Energy&#39\;s newly remodeled office! An Open House will follow.&nbsp\;
LOCATION:1023 E 25th St.
UID:e.1404.15439
SEQUENCE:3
DTSTAMP:20260426T020434Z
URL:https://members.kearneycoc.org/events/details/rc-northwestern-energy-15439
END:VEVENT

END:VCALENDAR
