BEGIN:VCALENDAR
VERSION:2.0
PRODID:-//ChamberMaster//Event Calendar 2.0//EN
METHOD:PUBLISH
X-PUBLISHED-TTL:P3D
REFRESH-INTERVAL:P3D
CALSCALE:GREGORIAN
BEGIN:VEVENT
DTSTART:20160524T200000Z
DTEND:20160524T204500Z
X-MICROSOFT-CDO-ALLDAYEVENT:FALSE
SUMMARY:RC: NutriMost
DESCRIPTION:Join us for a ribbon cutting ceremony for the new NutriMost store! Meet staff members and learn about their services.
X-ALT-DESC;FMTTYPE=text/html:Join us for a ribbon cutting ceremony for the new NutriMost&nbsp\;store! Meet staff members and learn about their services.
LOCATION:620 E 25th St #8
UID:e.1404.8737
SEQUENCE:3
DTSTAMP:20260421T202138Z
URL:https://members.kearneycoc.org/events/details/rc-nutrimost-05-24-2016-8737
END:VEVENT

END:VCALENDAR
