BEGIN:VCALENDAR
VERSION:2.0
PRODID:-//ChamberMaster//Event Calendar 2.0//EN
METHOD:PUBLISH
X-PUBLISHED-TTL:P3D
REFRESH-INTERVAL:P3D
CALSCALE:GREGORIAN
BEGIN:VEVENT
DTSTART:20140815T150000Z
DTEND:20140815T153000Z
X-MICROSOFT-CDO-ALLDAYEVENT:FALSE
SUMMARY:RC: Oxford Locker
DESCRIPTION:Join us for a Ribbon Cutting Ceremony to welcome the newest specialty meat locker in Kearney!
X-ALT-DESC;FMTTYPE=text/html:Join us for a Ribbon Cutting Ceremony to welcome the newest specialty meat locker in Kearney!
LOCATION:105 W 11th Street
UID:e.1404.5308
SEQUENCE:3
DTSTAMP:20260423T090954Z
URL:https://members.kearneycoc.org/events/details/rc-oxford-locker-08-15-2014-5308
END:VEVENT

END:VCALENDAR
